BEGIN:VCALENDAR
VERSION:2.0
PRODID:gruene-schlangen.de
METHOD:PUBLISH
BEGIN:VTIMEZONE
TZID:Europe/Berlin
X-LIC-LOCATION:Europe/Berlin
BEGIN:DAYLIGHT
TZOFFSETFROM:+0100
TZOFFSETTO:+0200
TZNAME:CEST
DTSTART:19700329T020000
RRULE:FREQ=YEARLY;INTERVAL=1;BYDAY=-1SU;BYMONTH=3
END:DAYLIGHT
BEGIN:STANDARD
TZOFFSETFROM:+0200
TZOFFSETTO:+0100
TZNAME:CET
DTSTART:19701025T030000
RRULE:FREQ=YEARLY;INTERVAL=1;BYDAY=-1SU;BYMONTH=10
END:STANDARD
END:VTIMEZONE
BEGIN:VEVENT
UID:bbe8422ff5ba0107cc4a0faa17511c53@gruene-schlangen.de
URL;VALUE=URI:https://gruene-schlangen.de/termine/infostand-schlangen-rew
 e-good-evening/
LOCATION:2025-09-05 19:00, 2025-09-05 19:00, 2025-09-05 19:00
SUMMARY:Infostand – Schlangen – Rewe – Good Evening
DESCRIPTION;ALTREP="data:text/html,%0A%3Cp%3EFeierabend%2C%20Einkauf%20er
 ledigt%20%E2%80%93%20und%20dann%3F%20%3C%2Fp%3E%0A%0A%0A%0A%3Cp%3EKomm%20
 vorbei%20an%20unserem%20Wahlkampfstand%20vor%20dem%20Rewe%21%20%3C%2Fp%3E
 %0A%0A%0A%0A%3Cp%3EWir%20vom%20Gr%C3%BCnen%20Ortsverband%20Schlangen%20si
 nd%20da%2C%20um%20mit%20dir%20ins%20Gespr%C3%A4ch%20zu%20kommen%2C%20%C3%
 BCber%20lokale%20Themen%2C%20unsere%20Vorstellungen%20und%20deine%20Ideen
 %20%2F%20W%C3%BCnsche%20f%C3%BCr%20unsere%20Gemeinde.%3C%2Fp%3E%0A%0A%0A%
 0A%3Cp%3EMit%20dabei%3A%20gute%20Gespr%C3%A4che%2C%20Infomaterial%20und%2
 0ein%20offenes%20Ohr%20f%C3%BCr%20deine%20Ideen.%3C%2Fp%3E%0A%0A%0A%0A%3C
 p%3E%F0%9F%93%8D%20%3Cstrong%3EWo%3A%3C%2Fstrong%3E%20Rewe%20%F0%9F%93%85
 %20%3Cstrong%3EWann%3A%3C%2Fstrong%3E%2017%3A00%20-%2019%3A00%3C%2Fp%3E%0
 A%0A%0A%0A%3Cp%3E%3C%2Fp%3E%0A":Feierabend\, Einkauf erledigt – und dan
 n?\n\nKomm vorbei an unserem Wahlkampfstand vor dem Rewe!\n\nWir vom Grü
 nen Ortsverband Schlangen sind da\, um mit dir ins Gespräch zu kommen\, 
 über lokale Themen\, unsere Vorstellungen und deine Ideen / Wünsche fü
 r unsere Gemeinde.\n\nMit dabei: gute Gespräche\, Infomaterial und ein o
 ffenes Ohr für deine Ideen.\n\n📍 Wo: Rewe 📅 Wann: 17:00 - 19:00
CLASS:PUBLIC
DTSTART;TZID=Europe/Berlin:20250905
DTEND;TZID=Europe/Berlin:20250905
DTSTAMP:20260421T114315
END:VEVENT
END:VCALENDAR