BEGIN:VCALENDAR
VERSION:2.0
PRODID:gruene-schlangen.de
METHOD:PUBLISH
BEGIN:VTIMEZONE
TZID:Europe/Berlin
X-LIC-LOCATION:Europe/Berlin
BEGIN:DAYLIGHT
TZOFFSETFROM:+0100
TZOFFSETTO:+0200
TZNAME:CEST
DTSTART:19700329T020000
RRULE:FREQ=YEARLY;INTERVAL=1;BYDAY=-1SU;BYMONTH=3
END:DAYLIGHT
BEGIN:STANDARD
TZOFFSETFROM:+0200
TZOFFSETTO:+0100
TZNAME:CET
DTSTART:19701025T030000
RRULE:FREQ=YEARLY;INTERVAL=1;BYDAY=-1SU;BYMONTH=10
END:STANDARD
END:VTIMEZONE
BEGIN:VEVENT
UID:ed413cedd0aba37ab55c8efc13990845@gruene-schlangen.de
URL;VALUE=URI:https://gruene-schlangen.de/termine/infostand-in-oesterholz
 -dorfbrunnen/
LOCATION:2025-08-30 13:00, 2025-08-30 13:00, 2025-08-30 13:00
SUMMARY:Infostand in Oesterholz – Dorfbrunnen
DESCRIPTION;ALTREP="data:text/html,%0A%3Cp%3EDu%20hast%20Fragen%20zur%20K
 ommunalwahl%2C%20willst%20unser%20Programm%20kennenlernen%20oder%20einfac
 h%20mit%20uns%20ins%20Gespr%C3%A4ch%20kommen%3F%20%3Cbr%3EDann%20besuch%2
 0uns%20am%20Wahlkampfstand%20des%20Gr%C3%BCnen%20Ortsverbands%20Schlangen
 %21%20%3C%2Fp%3E%0A%0A%0A%0A%3Cp%3EOb%20Klimaschutz%2C%20Mobilit%C3%A4t%2
 0oder%20Gesellschaftliches%20Zusammenleben%20%E2%80%93%20wir%20zeigen%2C%
 20wie%20gr%C3%BCne%20Politik%20vor%20Ort%20wirkt.%20%3C%2Fp%3E%0A%0A%0A%0
 A%3Cp%3EMit%20dabei%3A%20gute%20Gespr%C3%A4che%2C%20Infomaterial%20und%20
 ein%20offenes%20Ohr%20f%C3%BCr%20deine%20Ideen.%3C%2Fp%3E%0A%0A%0A%0A%3Cp
 %3E%F0%9F%93%8D%20%3Cstrong%3EWo%3A%3C%2Fstrong%3E%20Oesterholz%20am%20Do
 rfbrunnen%20%F0%9F%93%85%20%3Cstrong%3EWann%3A%3C%2Fstrong%3E%2010%3A00%2
 0-%2013%3A00%3C%2Fp%3E%0A%0A%0A%0A%3Cp%3E%3C%2Fp%3E%0A":Du hast Fragen zu
 r Kommunalwahl\, willst unser Programm kennenlernen oder einfach mit uns 
 ins Gespräch kommen? Dann besuch uns am Wahlkampfstand des Grünen Ortsv
 erbands Schlangen!\n\nOb Klimaschutz\, Mobilität oder Gesellschaftliches
  Zusammenleben – wir zeigen\, wie grüne Politik vor Ort wirkt.\n\nMit 
 dabei: gute Gespräche\, Infomaterial und ein offenes Ohr für deine Idee
 n.\n\n📍 Wo: Oesterholz am Dorfbrunnen 📅 Wann: 10:00 - 13:00
CLASS:PUBLIC
DTSTART;TZID=Europe/Berlin:20250830
DTEND;TZID=Europe/Berlin:20250830
DTSTAMP:20260421T113935
END:VEVENT
END:VCALENDAR